BEGIN:VCALENDAR
VERSION:2.0
PRODID:-//Kur Gutshof Camping Arterhof | Camping in Bad Birnbach - ECPv6.15.11//NONSGML v1.0//EN
CALSCALE:GREGORIAN
METHOD:PUBLISH
X-WR-CALNAME:Kur Gutshof Camping Arterhof | Camping in Bad Birnbach
X-ORIGINAL-URL:https://www.arterhof.de
X-WR-CALDESC:Veranstaltungen für Kur Gutshof Camping Arterhof | Camping in Bad Birnbach
REFRESH-INTERVAL;VALUE=DURATION:PT1H
X-Robots-Tag:noindex
X-PUBLISHED-TTL:PT1H
BEGIN:VTIMEZONE
TZID:Europe/Berlin
BEGIN:DAYLIGHT
TZOFFSETFROM:+0100
TZOFFSETTO:+0200
TZNAME:CEST
DTSTART:20250330T010000
END:DAYLIGHT
BEGIN:STANDARD
TZOFFSETFROM:+0200
TZOFFSETTO:+0100
TZNAME:CET
DTSTART:20251026T010000
END:STANDARD
BEGIN:DAYLIGHT
TZOFFSETFROM:+0100
TZOFFSETTO:+0200
TZNAME:CEST
DTSTART:20260329T010000
END:DAYLIGHT
BEGIN:STANDARD
TZOFFSETFROM:+0200
TZOFFSETTO:+0100
TZNAME:CET
DTSTART:20261025T010000
END:STANDARD
BEGIN:DAYLIGHT
TZOFFSETFROM:+0100
TZOFFSETTO:+0200
TZNAME:CEST
DTSTART:20270328T010000
END:DAYLIGHT
BEGIN:STANDARD
TZOFFSETFROM:+0200
TZOFFSETTO:+0100
TZNAME:CET
DTSTART:20271031T010000
END:STANDARD
END:VTIMEZONE
BEGIN:VEVENT
DTSTART;TZID=Europe/Berlin:20260430T190000
DTEND;TZID=Europe/Berlin:20260430T210000
DTSTAMP:20260419T160321
CREATED:20260408T122534Z
LAST-MODIFIED:20260408T122534Z
UID:18542-1777575600-1777582800@www.arterhof.de
SUMMARY:Piano-Musik im Roßstall
DESCRIPTION:mit Tobias Beiler am Klavier\nfreier Eintritt \nSein Programm umfasst bekannte und zeitlose Melodien – von Klassiker wie „My Way“ über Filmmusik und italienische Lieder bis hin zu Popmusik und Künstlern wie Richard Clayderman und Udo Jürgens. \nLassen Sie sich von der Musik durch den Abend begleiten und genießen Sie die entspannte Stimmung im Arterhof.
URL:https://www.arterhof.de/veranstaltung/piano-musik-im-rossstall/
ATTACH;FMTTYPE=image/png:https://www.arterhof.de/wp-content/uploads/2026/04/Klavier-Abend-Rossstall-.png
END:VEVENT
BEGIN:VEVENT
DTSTART;TZID=Europe/Berlin:20260524T113000
DTEND;TZID=Europe/Berlin:20260524T230000
DTSTAMP:20260419T160322
CREATED:20250216T100435Z
LAST-MODIFIED:20260414T071713Z
UID:17402-1779622200-1779663600@www.arterhof.de
SUMMARY:Pfingst-Hoffest
DESCRIPTION:Pfingst-Brauchtumsfest \n11.30 Uhr Bieranstich\, Mittagstisch und a scheene bayrische Musi mit den „Reichertshamer Musikanten“\n15.00 Uhr Rottaler Drehorgeln\nab 16 Uhr Auftritt der Boogie Spatzen\nab 17 Uhr super Unterhaltung mit dem Trio „Na und!“
URL:https://www.arterhof.de/veranstaltung/pfingst-hoffest-3/
LOCATION:Kur-Gutshof-Camping Arterhof\, Hauptstraße 3\, Bad Birnbach\, Bayern\, 84364\, Deutschland
ATTACH;FMTTYPE=image/jpeg:https://www.arterhof.de/wp-content/uploads/2023/09/Arterhof-Pfingstfest-Reichertshamer-Musikanten.jpg
ORGANIZER;CN="Kur-Gutshof-Camping Arterhof":MAILTO:info@arterhof.de
END:VEVENT
BEGIN:VEVENT
DTSTART;TZID=Europe/Berlin:20260525T113000
DTEND;TZID=Europe/Berlin:20260525T230000
DTSTAMP:20260419T160322
CREATED:20250216T100558Z
LAST-MODIFIED:20260414T071925Z
UID:17404-1779708600-1779750000@www.arterhof.de
SUMMARY:Pfingst-Hoffest
DESCRIPTION:Pfingst-Brauchtumsfest\nmit Bauernmarkt und Kinderhüpfburg\n11.30 Uhr Auftakt der Böllerschützen und am Nachmittag Unterhaltung mit „Doris und Andi“\n14.00 Uhr Humoristin und Gstandslsängerin Renate Maier
URL:https://www.arterhof.de/veranstaltung/pfingst-hoffest-4/
LOCATION:Kur-Gutshof-Camping Arterhof\, Hauptstraße 3\, Bad Birnbach\, Bayern\, 84364\, Deutschland
ATTACH;FMTTYPE=image/jpeg:https://www.arterhof.de/wp-content/uploads/2023/09/Arterhof-Pfingstfest-Drehorgel.jpg
ORGANIZER;CN="Kur-Gutshof-Camping Arterhof":MAILTO:info@arterhof.de
END:VEVENT
END:VCALENDAR